BEGIN:VCALENDAR
VERSION:2.0
PRODID:-//SVP Biel-Seeland //NONSGML Events //EN
CALSCALE:GREGORIAN
X-WR-CALNAME:SVP Biel-Seeland
BEGIN:VEVENT
CREATED:20240918T072033Z
UID:2829
DTEND:20250405T110000
DTSTART:20250405T103000
DTSTAMP:20260421T222336Z
LOCATION:Mehrzweckhalle Kaserne Bern
DESCRIPTION:
SUMMARY:Mitgliederversammlung Pro Schweiz
ORGANIZER:
URL;VALUE=URI:https://www.svp-seeland.ch/aktuell/termine/mitgliederversammlung-pro-schweiz-2/
TRANSP:OPAQUE
END:VEVENT
END:VCALENDAR
