BEGIN:VCALENDAR
VERSION:2.0
PRODID:-//SVP Biel-Seeland //NONSGML Events //EN
CALSCALE:GREGORIAN
X-WR-CALNAME:SVP Biel-Seeland
BEGIN:VEVENT
CREATED:20230522T175108Z
UID:1829
DTEND:20230903T160000
DTSTART:20230901T170000
DTSTAMP:20260424T154031Z
LOCATION:Tenishalle Aarberg
DESCRIPTION:Die Ortsparteien von Aarberg (SVP, FDP, Mitte, SP und Grüne) sind mit
SUMMARY:Aargwärb Gewerbeausstellung (Aarberg)
ORGANIZER:
URL;VALUE=URI:https://www.svp-seeland.ch/aktuell/termine/aargwaerb-gewerbeausstellung-aarberg/
TRANSP:OPAQUE
END:VEVENT
END:VCALENDAR
